BEGIN:VCALENDAR
VERSION:2.0
PRODID:-//Béruges - ECPv6.15.20//NONSGML v1.0//EN
CALSCALE:GREGORIAN
METHOD:PUBLISH
X-WR-CALNAME:Béruges
X-ORIGINAL-URL:https://beruges.fr
X-WR-CALDESC:Évènements pour Béruges
REFRESH-INTERVAL;VALUE=DURATION:PT1H
X-Robots-Tag:noindex
X-PUBLISHED-TTL:PT1H
BEGIN:VTIMEZONE
TZID:Europe/Paris
BEGIN:DAYLIGHT
TZOFFSETFROM:+0100
TZOFFSETTO:+0200
TZNAME:CEST
DTSTART:20250330T010000
END:DAYLIGHT
BEGIN:STANDARD
TZOFFSETFROM:+0200
TZOFFSETTO:+0100
TZNAME:CET
DTSTART:20251026T010000
END:STANDARD
BEGIN:DAYLIGHT
TZOFFSETFROM:+0100
TZOFFSETTO:+0200
TZNAME:CEST
DTSTART:20260329T010000
END:DAYLIGHT
BEGIN:STANDARD
TZOFFSETFROM:+0200
TZOFFSETTO:+0100
TZNAME:CET
DTSTART:20261025T010000
END:STANDARD
BEGIN:DAYLIGHT
TZOFFSETFROM:+0100
TZOFFSETTO:+0200
TZNAME:CEST
DTSTART:20270328T010000
END:DAYLIGHT
BEGIN:STANDARD
TZOFFSETFROM:+0200
TZOFFSETTO:+0100
TZNAME:CET
DTSTART:20271031T010000
END:STANDARD
END:VTIMEZONE
BEGIN:VEVENT
DTSTART;TZID=Europe/Paris:20260426T110000
DTEND;TZID=Europe/Paris:20260426T120000
DTSTAMP:20260426T013914
CREATED:20260331T170037Z
LAST-MODIFIED:20260402T124539Z
UID:1505-1777201200-1777204800@beruges.fr
SUMMARY:Journée des Déportés
DESCRIPTION:Association des anciens combattants de Béruges Quinçay  \nRassemblement à 11h00 le Dimanche 26 avril 2026 à la Maire de Quinçay. \n\n11 h 00 : Rassemblement à la Mairie de Quinçay\n11 h 15 : Dépôt de gerbe et cérémonie au Monument aux Morts et à la stèle de la Déportation\n12 h 00 : Vin d’honneur offert par la municipalité de Quinçay
URL:https://beruges.fr/event/journee-des-deportes/
LOCATION:Quinçay
ATTACH;FMTTYPE=image/jpeg:https://beruges.fr/wp-content/uploads/2026/01/ASSOCIATION-GUERRE.jpg
END:VEVENT
END:VCALENDAR