BEGIN:VCALENDAR
VERSION:2.0
PRODID:-//Béruges - ECPv6.15.20//NONSGML v1.0//EN
CALSCALE:GREGORIAN
METHOD:PUBLISH
X-WR-CALNAME:Béruges
X-ORIGINAL-URL:https://beruges.fr
X-WR-CALDESC:Évènements pour Béruges
REFRESH-INTERVAL;VALUE=DURATION:PT1H
X-Robots-Tag:noindex
X-PUBLISHED-TTL:PT1H
BEGIN:VTIMEZONE
TZID:Europe/Paris
BEGIN:DAYLIGHT
TZOFFSETFROM:+0100
TZOFFSETTO:+0200
TZNAME:CEST
DTSTART:20250330T010000
END:DAYLIGHT
BEGIN:STANDARD
TZOFFSETFROM:+0200
TZOFFSETTO:+0100
TZNAME:CET
DTSTART:20251026T010000
END:STANDARD
BEGIN:DAYLIGHT
TZOFFSETFROM:+0100
TZOFFSETTO:+0200
TZNAME:CEST
DTSTART:20260329T010000
END:DAYLIGHT
BEGIN:STANDARD
TZOFFSETFROM:+0200
TZOFFSETTO:+0100
TZNAME:CET
DTSTART:20261025T010000
END:STANDARD
BEGIN:DAYLIGHT
TZOFFSETFROM:+0100
TZOFFSETTO:+0200
TZNAME:CEST
DTSTART:20270328T010000
END:DAYLIGHT
BEGIN:STANDARD
TZOFFSETFROM:+0200
TZOFFSETTO:+0100
TZNAME:CET
DTSTART:20271031T010000
END:STANDARD
END:VTIMEZONE
BEGIN:VEVENT
DTSTART;TZID=Europe/Paris:20260703T080000
DTEND;TZID=Europe/Paris:20260703T170000
DTSTAMP:20260426T014449
CREATED:20260425T172348Z
LAST-MODIFIED:20260425T172348Z
UID:1852-1783065600-1783098000@beruges.fr
SUMMARY:Béruges au fil de l'eau
DESCRIPTION:
URL:https://beruges.fr/event/beruges-au-fil-de-leau/
END:VEVENT
BEGIN:VEVENT
DTSTART;TZID=Europe/Paris:20260705T100000
DTEND;TZID=Europe/Paris:20260705T170000
DTSTAMP:20260426T014449
CREATED:20260331T210134Z
LAST-MODIFIED:20260407T221519Z
UID:1510-1783245600-1783270800@beruges.fr
SUMMARY:Musée ouvert
DESCRIPTION:Chaque premier dimanche du mois de 10h à 17h avec pause méridienne
URL:https://beruges.fr/event/musee-ouvert-4/
LOCATION:Musée
ATTACH;FMTTYPE=image/jpeg:https://beruges.fr/wp-content/uploads/2026/01/logo_nouvelle-version-Amis-du-Patrimoine-de-Beruges-650x649-1.jpg
END:VEVENT
BEGIN:VEVENT
DTSTART;TZID=Europe/Paris:20260709T100000
DTEND;TZID=Europe/Paris:20260709T120000
DTSTAMP:20260426T014449
CREATED:20260408T065204Z
LAST-MODIFIED:20260408T081221Z
UID:1635-1783591200-1783598400@beruges.fr
SUMMARY:Immersion dans la Verrerie
DESCRIPTION:Jeudi 9 juillet\, immersion dans l’ENS de la Verrerie de 10h à 12h. La sortie est gratuite et familiale. \nEntre pâturages et bocages se cachent de nombreuses espèces\, arriverez-vous à les observer et à les identifier ? \nContact : CPIE Seuil du Poitou 05 49 85 11 66 contact@cpie-poitou.fr \n \nAutres sorties sur la Verrerie \n \nPlus d’informations : Animations nature dans les ENS de la Vienne
URL:https://beruges.fr/event/immersion-dans-la-verrerie-2/
ATTACH;FMTTYPE=image/png:https://beruges.fr/wp-content/uploads/2026/04/VERR-9-JUIL.png
END:VEVENT
END:VCALENDAR