BEGIN:VCALENDAR
VERSION:2.0
PRODID:-//Béruges - ECPv6.15.20//NONSGML v1.0//EN
CALSCALE:GREGORIAN
METHOD:PUBLISH
X-WR-CALNAME:Béruges
X-ORIGINAL-URL:https://beruges.fr
X-WR-CALDESC:Évènements pour Béruges
REFRESH-INTERVAL;VALUE=DURATION:PT1H
X-Robots-Tag:noindex
X-PUBLISHED-TTL:PT1H
BEGIN:VTIMEZONE
TZID:Europe/Paris
BEGIN:DAYLIGHT
TZOFFSETFROM:+0100
TZOFFSETTO:+0200
TZNAME:CEST
DTSTART:20250330T010000
END:DAYLIGHT
BEGIN:STANDARD
TZOFFSETFROM:+0200
TZOFFSETTO:+0100
TZNAME:CET
DTSTART:20251026T010000
END:STANDARD
BEGIN:DAYLIGHT
TZOFFSETFROM:+0100
TZOFFSETTO:+0200
TZNAME:CEST
DTSTART:20260329T010000
END:DAYLIGHT
BEGIN:STANDARD
TZOFFSETFROM:+0200
TZOFFSETTO:+0100
TZNAME:CET
DTSTART:20261025T010000
END:STANDARD
BEGIN:DAYLIGHT
TZOFFSETFROM:+0100
TZOFFSETTO:+0200
TZNAME:CEST
DTSTART:20270328T010000
END:DAYLIGHT
BEGIN:STANDARD
TZOFFSETFROM:+0200
TZOFFSETTO:+0100
TZNAME:CET
DTSTART:20271031T010000
END:STANDARD
END:VTIMEZONE
BEGIN:VEVENT
DTSTART;TZID=Europe/Paris:20260812T200000
DTEND;TZID=Europe/Paris:20260812T230000
DTSTAMP:20260426T025605
CREATED:20260422T172043Z
LAST-MODIFIED:20260422T172101Z
UID:1815-1786564800-1786575600@beruges.fr
SUMMARY:Eclipse solaire
DESCRIPTION:Mercredi 12 août \nSoirée astronomique \nObservation : Eclipse solaire entre 20h et 20h30 (attention à se munir de lunettes spéciales d’observation solaire). \nPique-nique partagé puis nuit des étoiles à observer avec un télescope si vous en possédez un. \nBéruges\, la Plaine du Japres\, route du Pin \nÀ partir de 20h\, gratuit
URL:https://beruges.fr/event/eclipse-solaire/
END:VEVENT
BEGIN:VEVENT
DTSTART;TZID=Europe/Paris:20260827T130000
DTEND;TZID=Europe/Paris:20260827T170000
DTSTAMP:20260426T025605
CREATED:20260418T094412Z
LAST-MODIFIED:20260418T094412Z
UID:1789-1787835600-1787850000@beruges.fr
SUMMARY:Tour Poitou Charentes : 4ème étape
DESCRIPTION:Le TPC en Nouvelle-Aquitaine va passer sur Bérugees le 27 août 2026\, lors de la 4ème étape entre Saint-Symphorien (79) et Poitiers (86). \nUne caravane publicitaire précédera la course cycliste d’environ 45 minutes à 1 heure. La course et la caravane bénéficieront d’un usage exclusif temporaire de la chaussée\, ce qui implique une privatisation temporaire de la route.
URL:https://beruges.fr/event/tour-poitou-charentes-4eme-etape/
ATTACH;FMTTYPE=image/jpeg:https://beruges.fr/wp-content/uploads/2026/04/tpc.jpg
END:VEVENT
BEGIN:VEVENT
DTSTART;TZID=Europe/Paris:20260827T130000
DTEND;TZID=Europe/Paris:20260827T170000
DTSTAMP:20260426T025605
CREATED:20260423T195439Z
LAST-MODIFIED:20260423T195439Z
UID:1788-1787835600-1787850000@beruges.fr
SUMMARY:Le Tour Poitou Charentes passe à Béruges
DESCRIPTION:
URL:https://beruges.fr/event/le-tour-poitou-charentes-passe-a-beruges/
END:VEVENT
END:VCALENDAR